BEGIN:VCALENDAR
VERSION:2.0
PRODID:-//Praktijk Clarity - ECPv6.15.20//NONSGML v1.0//EN
CALSCALE:GREGORIAN
METHOD:PUBLISH
X-WR-CALNAME:Praktijk Clarity
X-ORIGINAL-URL:https://www.praktijkclarity.nl
X-WR-CALDESC:Evenementen voor Praktijk Clarity
REFRESH-INTERVAL;VALUE=DURATION:PT1H
X-Robots-Tag:noindex
X-PUBLISHED-TTL:PT1H
BEGIN:VTIMEZONE
TZID:Europe/Amsterdam
BEGIN:DAYLIGHT
TZOFFSETFROM:+0100
TZOFFSETTO:+0200
TZNAME:CEST
DTSTART:20180325T010000
END:DAYLIGHT
BEGIN:STANDARD
TZOFFSETFROM:+0200
TZOFFSETTO:+0100
TZNAME:CET
DTSTART:20181028T010000
END:STANDARD
BEGIN:DAYLIGHT
TZOFFSETFROM:+0100
TZOFFSETTO:+0200
TZNAME:CEST
DTSTART:20190331T010000
END:DAYLIGHT
BEGIN:STANDARD
TZOFFSETFROM:+0200
TZOFFSETTO:+0100
TZNAME:CET
DTSTART:20191027T010000
END:STANDARD
BEGIN:DAYLIGHT
TZOFFSETFROM:+0100
TZOFFSETTO:+0200
TZNAME:CEST
DTSTART:20200329T010000
END:DAYLIGHT
BEGIN:STANDARD
TZOFFSETFROM:+0200
TZOFFSETTO:+0100
TZNAME:CET
DTSTART:20201025T010000
END:STANDARD
BEGIN:DAYLIGHT
TZOFFSETFROM:+0100
TZOFFSETTO:+0200
TZNAME:CEST
DTSTART:20210328T010000
END:DAYLIGHT
BEGIN:STANDARD
TZOFFSETFROM:+0200
TZOFFSETTO:+0100
TZNAME:CET
DTSTART:20211031T010000
END:STANDARD
END:VTIMEZONE
BEGIN:VEVENT
DTSTART;TZID=Europe/Amsterdam:20200415T213000
DTEND;TZID=Europe/Amsterdam:20200415T233000
DTSTAMP:20260416T040929
CREATED:20190417T112719Z
LAST-MODIFIED:20191130T133832Z
UID:1448-1586986200-1586993400@www.praktijkclarity.nl
SUMMARY:Het Klankkleurkoor
DESCRIPTION:Aan je adem en je stem werken\, stil (leren) zijn\, (leren) ontspannen door goed in je lijf te komen\, door middel van speelse oefening. Je verlegenheid of angst om klank te maken overwinnen en je ruimte innemen. Het geeft rust\, verbinding en vreugde. \nDe kosten per avond zijn: €15\,- incl. thee.
URL:https://www.praktijkclarity.nl/event/het-klankkleurkoor-5/
LOCATION:Praktijk Clarity\, Multatulilaan 7\, Uithoorn\, 1422 BN
ATTACH;FMTTYPE=image/jpeg:https://www.praktijkclarity.nl/wp-content/uploads/2019/02/klankkleur-koor.jpg
END:VEVENT
BEGIN:VEVENT
DTSTART;TZID=Europe/Amsterdam:20200321T150000
DTEND;TZID=Europe/Amsterdam:20200321T170000
DTSTAMP:20260416T040929
CREATED:20191010T131910Z
LAST-MODIFIED:20200218T152808Z
UID:1546-1584802800-1584810000@www.praktijkclarity.nl
SUMMARY:Demo Bio-resonantie
DESCRIPTION:In deze demo zal uitleg worden gegeven over de werking van bio-resonantie en het Asyra systeem dat wij in de praktijk gebruiken. Ook is het voor proefpersonen mogelijk om een aantal gratis metingen te krijgen. Aanmelding (telefonisch of per email) is noodzakelijk.
URL:https://www.praktijkclarity.nl/event/demo-bio-resonantie/
LOCATION:Praktijk Clarity\, Multatulilaan 7\, Uithoorn\, 1422 BN
ATTACH;FMTTYPE=image/jpeg:https://www.praktijkclarity.nl/wp-content/uploads/2019/04/bio-resonantie-met-Asyra.jpg
ORGANIZER;CN="Praktijk Clarity":MAILTO:carladebrave@gmail.com
END:VEVENT
BEGIN:VEVENT
DTSTART;TZID=Europe/Amsterdam:20200108T203000
DTEND;TZID=Europe/Amsterdam:20200108T223000
DTSTAMP:20260416T040929
CREATED:20190910T123813Z
LAST-MODIFIED:20190910T124105Z
UID:1539-1578515400-1578522600@www.praktijkclarity.nl
SUMMARY:Het Klankkleurkoor
DESCRIPTION:Aan je adem en je stem werken\, stil (leren) zijn\, (leren) ontspannen door goed in je lijf te komen\, door middel van speelse oefening. Je verlegenheid of angst om klank te maken overwinnen en je ruimte innemen. Het geeft rust\, verbinding en vreugde. \nDe kosten per avond zijn: €15\,- incl. thee.
URL:https://www.praktijkclarity.nl/event/het-klankkleurkoor-6/
LOCATION:Praktijk Clarity\, Multatulilaan 7\, Uithoorn\, 1422 BN
ATTACH;FMTTYPE=image/jpeg:https://www.praktijkclarity.nl/wp-content/uploads/2019/02/klankkleur-koor.jpg
END:VEVENT
BEGIN:VEVENT
DTSTART;TZID=Europe/Amsterdam:20191218T203000
DTEND;TZID=Europe/Amsterdam:20191218T223000
DTSTAMP:20260416T040929
CREATED:20190219T080425Z
LAST-MODIFIED:20190909T205422Z
UID:1125-1576701000-1576708200@www.praktijkclarity.nl
SUMMARY:Het Klankkleurkoor
DESCRIPTION:Aan je adem en je stem werken\, stil (leren) zijn\, (leren) ontspannen door goed in je lijf te komen\, door middel van speelse oefening. Je verlegenheid of angst om klank te maken overwinnen en je ruimte innemen. Het geeft rust\, verbinding en vreugde. \nDe kosten per avond zijn: €15\,- incl. thee.
URL:https://www.praktijkclarity.nl/event/het-klankkleurkoor/
LOCATION:Praktijk Clarity\, Multatulilaan 7\, Uithoorn\, 1422 BN
ATTACH;FMTTYPE=image/jpeg:https://www.praktijkclarity.nl/wp-content/uploads/2019/02/klankkleur-koor.jpg
END:VEVENT
BEGIN:VEVENT
DTSTART;TZID=Europe/Amsterdam:20191020T160000
DTEND;TZID=Europe/Amsterdam:20191020T190000
DTSTAMP:20260416T040929
CREATED:20190409T064330Z
LAST-MODIFIED:20190919T112740Z
UID:1411-1571587200-1571598000@www.praktijkclarity.nl
SUMMARY:Sjamanen-drum
DESCRIPTION:Wil je meedoen in de drumcirkel\, met je eigen Sjamanen-drum? De eerstvolgende datum is op 20 oktober\, in Nes aan de Amstel\, buiten. \nJe bent er welkom!
URL:https://www.praktijkclarity.nl/event/sjamanen-drum/
LOCATION:De Zon Rondom\, Ringdijk BP 16\, Amstelveen\, 1188 WC
ATTACH;FMTTYPE=image/jpeg:https://www.praktijkclarity.nl/wp-content/uploads/2019/04/sjamaanse-drum.jpg
ORGANIZER;CN="Praktijk Clarity":MAILTO:carladebrave@gmail.com
END:VEVENT
BEGIN:VEVENT
DTSTART;TZID=Europe/Amsterdam:20190815T120000
DTEND;TZID=Europe/Amsterdam:20190815T140000
DTSTAMP:20260416T040929
CREATED:20190416T080844Z
LAST-MODIFIED:20190714T133020Z
UID:1439-1565870400-1565877600@www.praktijkclarity.nl
SUMMARY:De Rite van de Baarmoeder
DESCRIPTION:De 13e Rite van de Munay-Ki: De Rite van de Baarmoeder. \nAlles wat jouw moeder is overkomen\,\nis jou overkomen\,\nterwijl ze zwanger was van jou. \nDe 13e Rite is een geschenk aan jezelf. Door de energie van de inwijding\, die zowel een heling als ook en zegening is\, wordt de vrouwelijke kracht gereactiveerd. \nDe collectieve energie is eeuwenlang ontkent\, onderdrukt en misbruikt. Vaak dragen we ook een stuk (bewust en/of onbewust) pijn en verdriet van onze moeders en grootmoeders of zelfs verwondingen uit andere levens met ons mee. Of hebben we een kwetsuur opgelopen in dit leven waardoor de vrouwelijke kracht voor een groot deel verloren ging. \nNu is echter het moment aangebroken dat elke vrouw zich weer mag herinneren wie ze werkelijk is. Boordevol power maar ook zacht\, liefdevol en wijs. \nDe Rite van de Baarmoeder is zeer krachtig en brengt\, in alle zachtheid\, jouw moederschoot van creatie in een natuurlijke balans waardoor je gevoel van zelfvertrouwen en eigenwaarde weer zal stromen. Een heling\, een zegening… een wedergeboorte van de sterke\, liefdevolle essentie van jouw vrouw zijn. Het ritueel heelt je en laat je herboren worden in schoonheid\, kracht en waardigheid. \nEr bestaat een lijn van vrouwen die zichzelf hebben bevrijd van lijden. Deze vrouwenlijn wil ons aan het volgende herinneren: \n\n“De baarmoeder is geen plek om angst en pijn in te bewaren. De baarmoeder is een plek van creatie en geboorte van leven”. \n\nDeze vrouwenlijn heeft ons via de wijsheid van de jungle het geschenk gegeven van de 13th Rite van de Munay-Ki: de Rite van de Baarmoeder. Deze rite van de Munay-Ki staat los van de andere 9 Munay-Ki initiaties en kan dus geheel los daarvan ontvangen worden. \nDe betaling kun je  van tevoren doen\, omdat je dan zeker weet dat je plaats is gereserveerd (i.v.m. de ruimte).\nDe kosten voor de Rite zijn : €45\,-\nDe Rite wordt altijd gehouden met Volle Maan in de ochtend of middag.
URL:https://www.praktijkclarity.nl/event/de-rite-van-de-baarmoeder/
LOCATION:Praktijk Clarity\, Multatulilaan 7\, Uithoorn\, 1422 BN
ATTACH;FMTTYPE=image/jpeg:https://www.praktijkclarity.nl/wp-content/uploads/2019/02/De-Rite-van-de-Baarmoeder.jpg
END:VEVENT
END:VCALENDAR