BEGIN:VCALENDAR
VERSION:2.0
PRODID:-//Praktijk Clarity - ECPv6.15.20//NONSGML v1.0//EN
CALSCALE:GREGORIAN
METHOD:PUBLISH
X-WR-CALNAME:Praktijk Clarity
X-ORIGINAL-URL:https://www.praktijkclarity.nl
X-WR-CALDESC:Evenementen voor Praktijk Clarity
REFRESH-INTERVAL;VALUE=DURATION:PT1H
X-Robots-Tag:noindex
X-PUBLISHED-TTL:PT1H
BEGIN:VTIMEZONE
TZID:Europe/Amsterdam
BEGIN:DAYLIGHT
TZOFFSETFROM:+0100
TZOFFSETTO:+0200
TZNAME:CEST
DTSTART:20180325T010000
END:DAYLIGHT
BEGIN:STANDARD
TZOFFSETFROM:+0200
TZOFFSETTO:+0100
TZNAME:CET
DTSTART:20181028T010000
END:STANDARD
BEGIN:DAYLIGHT
TZOFFSETFROM:+0100
TZOFFSETTO:+0200
TZNAME:CEST
DTSTART:20190331T010000
END:DAYLIGHT
BEGIN:STANDARD
TZOFFSETFROM:+0200
TZOFFSETTO:+0100
TZNAME:CET
DTSTART:20191027T010000
END:STANDARD
BEGIN:DAYLIGHT
TZOFFSETFROM:+0100
TZOFFSETTO:+0200
TZNAME:CEST
DTSTART:20200329T010000
END:DAYLIGHT
BEGIN:STANDARD
TZOFFSETFROM:+0200
TZOFFSETTO:+0100
TZNAME:CET
DTSTART:20201025T010000
END:STANDARD
BEGIN:DAYLIGHT
TZOFFSETFROM:+0100
TZOFFSETTO:+0200
TZNAME:CEST
DTSTART:20210328T010000
END:DAYLIGHT
BEGIN:STANDARD
TZOFFSETFROM:+0200
TZOFFSETTO:+0100
TZNAME:CET
DTSTART:20211031T010000
END:STANDARD
BEGIN:DAYLIGHT
TZOFFSETFROM:+0100
TZOFFSETTO:+0200
TZNAME:CEST
DTSTART:20220327T010000
END:DAYLIGHT
BEGIN:STANDARD
TZOFFSETFROM:+0200
TZOFFSETTO:+0100
TZNAME:CET
DTSTART:20221030T010000
END:STANDARD
BEGIN:DAYLIGHT
TZOFFSETFROM:+0100
TZOFFSETTO:+0200
TZNAME:CEST
DTSTART:20230326T010000
END:DAYLIGHT
BEGIN:STANDARD
TZOFFSETFROM:+0200
TZOFFSETTO:+0100
TZNAME:CET
DTSTART:20231029T010000
END:STANDARD
BEGIN:DAYLIGHT
TZOFFSETFROM:+0100
TZOFFSETTO:+0200
TZNAME:CEST
DTSTART:20240331T010000
END:DAYLIGHT
BEGIN:STANDARD
TZOFFSETFROM:+0200
TZOFFSETTO:+0100
TZNAME:CET
DTSTART:20241027T010000
END:STANDARD
BEGIN:DAYLIGHT
TZOFFSETFROM:+0100
TZOFFSETTO:+0200
TZNAME:CEST
DTSTART:20250330T010000
END:DAYLIGHT
BEGIN:STANDARD
TZOFFSETFROM:+0200
TZOFFSETTO:+0100
TZNAME:CET
DTSTART:20251026T010000
END:STANDARD
BEGIN:DAYLIGHT
TZOFFSETFROM:+0100
TZOFFSETTO:+0200
TZNAME:CEST
DTSTART:20260329T010000
END:DAYLIGHT
BEGIN:STANDARD
TZOFFSETFROM:+0200
TZOFFSETTO:+0100
TZNAME:CET
DTSTART:20261025T010000
END:STANDARD
END:VTIMEZONE
BEGIN:VEVENT
DTSTART;TZID=Europe/Amsterdam:20251128T094500
DTEND;TZID=Europe/Amsterdam:20251128T120000
DTSTAMP:20260416T033230
CREATED:20250401T132746Z
LAST-MODIFIED:20250902T085400Z
UID:1753-1764323100-1764331200@www.praktijkclarity.nl
SUMMARY:Vrouwencirckel met reading en cacaoceremonie
DESCRIPTION:Vrouwencirckel met cacaoceremonie en readings. \n \n\n\nEen intieme cirkel van maximaal 6 vrouwen komt samen in mijn sfeervolle\, verbouwde woonkamer\, in een veilige setting.Laat je verrassen door de inzichten die mogen ontstaan\, de zachtheid voor jezelf en de ander\, en de diepe verbinding met alles wat in jou leeft. \nJe bent van harte welkom om een levensthema\, vraag of innerlijk verlangen mee te brengen.Na een geleide meditatie openen we samen ons hart met een cacao ceremonie – een liefdevolle reis naar binnen\, naar wie je werkelijk bent. \nDe cacao opent je hart.Je bent welkom precies zoals je bent.Ik kijk ernaar uit je te ontmoeten! \nAanmelden:Via e-mail: carladebrave@gmail.comOf telefonisch: 06-22608327 / 567 773 \nBijdrage: €25 (graag contant betalen) \n\nDeze ceremonie wordt elke laatste vrijdag van de maand gehouden van 9.45 tot 12.00 uur.
URL:https://www.praktijkclarity.nl/event/vrouwencirckel-met-cacaoceremonie/
LOCATION:Praktijk Clarity\, Multatulilaan 7\, Uithoorn\, 1422 BN
ATTACH;FMTTYPE=image/jpeg:https://www.praktijkclarity.nl/wp-content/uploads/2019/02/vrouwencirkel-met-cacoaceremonie-en-reading.jpg
ORGANIZER;CN="Praktijk Clarity":MAILTO:carladebrave@gmail.com
END:VEVENT
BEGIN:VEVENT
DTSTART;TZID=Europe/Amsterdam:20251031T094500
DTEND;TZID=Europe/Amsterdam:20251031T120000
DTSTAMP:20260416T033230
CREATED:20250401T132951Z
LAST-MODIFIED:20250902T085419Z
UID:1755-1761903900-1761912000@www.praktijkclarity.nl
SUMMARY:Vrouwencirckel met reading en cacaoceremonie
DESCRIPTION:Vrouwencirckel met cacaoceremonie en readings. \n \n\n\nEen intieme cirkel van maximaal 6 vrouwen komt samen in mijn sfeervolle\, verbouwde woonkamer\, in een veilige setting.Laat je verrassen door de inzichten die mogen ontstaan\, de zachtheid voor jezelf en de ander\, en de diepe verbinding met alles wat in jou leeft. \nJe bent van harte welkom om een levensthema\, vraag of innerlijk verlangen mee te brengen.Na een geleide meditatie openen we samen ons hart met een cacao ceremonie – een liefdevolle reis naar binnen\, naar wie je werkelijk bent. \nDe cacao opent je hart.Je bent welkom precies zoals je bent.Ik kijk ernaar uit je te ontmoeten! \nAanmelden:Via e-mail: carladebrave@gmail.comOf telefonisch: 06-22608327 / 567 773 \nBijdrage: €25 (graag contant betalen) \n\nDeze ceremonie wordt elke laatste vrijdag van de maand gehouden van 9.45 tot 12.00 uur.
URL:https://www.praktijkclarity.nl/event/vrouwencirckel-met-cacaoceremonie-2/
LOCATION:Praktijk Clarity\, Multatulilaan 7\, Uithoorn\, 1422 BN
ATTACH;FMTTYPE=image/jpeg:https://www.praktijkclarity.nl/wp-content/uploads/2019/02/vrouwencirkel-met-cacoaceremonie-en-reading.jpg
ORGANIZER;CN="Praktijk Clarity":MAILTO:carladebrave@gmail.com
END:VEVENT
BEGIN:VEVENT
DTSTART;TZID=Europe/Amsterdam:20250926T094500
DTEND;TZID=Europe/Amsterdam:20250926T120000
DTSTAMP:20260416T033230
CREATED:20250401T133532Z
LAST-MODIFIED:20250902T085548Z
UID:1757-1758879900-1758888000@www.praktijkclarity.nl
SUMMARY:Vrouwencirckel met reading en cacaoceremonie
DESCRIPTION:Vrouwencirckel met cacaoceremonie en readings. \n \n\nEen intieme cirkel van maximaal 6 vrouwen komt samen in mijn sfeervolle\, verbouwde woonkamer\, in een veilige setting.Laat je verrassen door de inzichten die mogen ontstaan\, de zachtheid voor jezelf en de ander\, en de diepe verbinding met alles wat in jou leeft. \nJe bent van harte welkom om een levensthema\, vraag of innerlijk verlangen mee te brengen.Na een geleide meditatie openen we samen ons hart met een cacao ceremonie – een liefdevolle reis naar binnen\, naar wie je werkelijk bent. \nDe cacao opent je hart.Je bent welkom precies zoals je bent.Ik kijk ernaar uit je te ontmoeten! \nAanmelden:Via e-mail: carladebrave@gmail.comOf telefonisch: 06-22608327 / 567 773 \nBijdrage: €25 (graag contant betalen) \n\nDeze ceremonie wordt elke laatste vrijdag van de maand gehouden van 9.45 tot 12.00 uur.
URL:https://www.praktijkclarity.nl/event/vrouwencirckel-met-cacaoceremonie-3/
LOCATION:Praktijk Clarity\, Multatulilaan 7\, Uithoorn\, 1422 BN
ATTACH;FMTTYPE=image/jpeg:https://www.praktijkclarity.nl/wp-content/uploads/2019/02/vrouwencirkel-met-cacoaceremonie-en-reading.jpg
ORGANIZER;CN="Praktijk Clarity":MAILTO:carladebrave@gmail.com
END:VEVENT
BEGIN:VEVENT
DTSTART;TZID=Europe/Amsterdam:20250425T103000
DTEND;TZID=Europe/Amsterdam:20250425T123000
DTSTAMP:20260416T033230
CREATED:20190219T085634Z
LAST-MODIFIED:20250401T132730Z
UID:1136-1745577000-1745584200@www.praktijkclarity.nl
SUMMARY:Vrouwencirckel met cacaoceremonie
DESCRIPTION:Vrouwencirckel met cacaoceremonie en readings. \n \nEen cacao ceremonie is van oudsher een sjamanistisch ritueel.\nHet is met name verbindend. Verbindend met verschillende aspecten van jezelf\,\nverbindend met anderen of met een situatie die in of buiten jou plaats vindt.\nKleine groep\, in de woonkamer met thee/koffie en lekkers. Wees verbaasd over de inzichten die je ontvangt en de ondersteuning bij wat er is. Je mag een specifieke vraag of issue inbrengen. \nDe kosten zijn: €20\,-\, graag contant betalen. \nDeze ceremonie wordt elke maand gehouden van 10.30 tot 12.30 uur.
URL:https://www.praktijkclarity.nl/event/vrouwencirckel-met-cacaoceremonie-en-readings/
LOCATION:Praktijk Clarity\, Multatulilaan 7\, Uithoorn\, 1422 BN
ATTACH;FMTTYPE=image/jpeg:https://www.praktijkclarity.nl/wp-content/uploads/2019/02/vrouwencirkel-met-cacoaceremonie-en-reading.jpg
ORGANIZER;CN="Praktijk Clarity":MAILTO:carladebrave@gmail.com
END:VEVENT
BEGIN:VEVENT
DTSTART;TZID=Europe/Amsterdam:20250311T110000
DTEND;TZID=Europe/Amsterdam:20250311T130000
DTSTAMP:20260416T033230
CREATED:20250124T195432Z
LAST-MODIFIED:20250125T082055Z
UID:1738-1741690800-1741698000@www.praktijkclarity.nl
SUMMARY:Vrouwencirkel met reading
DESCRIPTION:Vrouwencirkel met reading (kaartleggingen).\nKleine groep\, in de woonkamer met thee/koffie en lekkers. Wees verbaasd over de inzichten die je ontvangt en de ondersteuning bij wat er is. Je mag een specifieke vraag of issue inbrengen. \nDe kosten per avond zijn: €20\,-\, graag contant betalen.
URL:https://www.praktijkclarity.nl/event/vrouwencirkel-met-reading-2/
LOCATION:Praktijk Clarity\, Multatulilaan 7\, Uithoorn\, 1422 BN
ATTACH;FMTTYPE=image/jpeg:https://www.praktijkclarity.nl/wp-content/uploads/2019/09/vrouwencirkel-met-reading.jpg
ORGANIZER;CN="Praktijk Clarity":MAILTO:carladebrave@gmail.com
END:VEVENT
BEGIN:VEVENT
DTSTART;TZID=Europe/Amsterdam:20250213T110000
DTEND;TZID=Europe/Amsterdam:20250213T130000
DTSTAMP:20260416T033230
CREATED:20250124T194414Z
LAST-MODIFIED:20250125T082616Z
UID:1537-1739444400-1739451600@www.praktijkclarity.nl
SUMMARY:Vrouwencirkel met reading
DESCRIPTION:Vrouwencirkel met reading (kaartleggingen).\nKleine groep\, in de woonkamer met thee/koffie en lekkers. Wees verbaasd over de inzichten die je ontvangt en de ondersteuning bij wat er is. Je mag een specifieke vraag of issue inbrengen. \nDe kosten per avond zijn: €20\,-\, graag contant betalen.
URL:https://www.praktijkclarity.nl/event/vrouwencirkel-met-reading/
LOCATION:Praktijk Clarity\, Multatulilaan 7\, Uithoorn\, 1422 BN
ATTACH;FMTTYPE=image/jpeg:https://www.praktijkclarity.nl/wp-content/uploads/2019/09/vrouwencirkel-met-reading.jpg
ORGANIZER;CN="Praktijk Clarity":MAILTO:carladebrave@gmail.com
END:VEVENT
BEGIN:VEVENT
DTSTART;TZID=Europe/Amsterdam:20240131T100000
DTEND;TZID=Europe/Amsterdam:20240131T150000
DTSTAMP:20260416T033230
CREATED:20190417T112540Z
LAST-MODIFIED:20231211T083850Z
UID:1444-1706695200-1706713200@www.praktijkclarity.nl
SUMMARY:Workshop Helende Rituelen
DESCRIPTION:Deze nieuwe workshop gaat over verbinden en helen;  over Zijn\, en over troost en Licht.\nWe zullen mediteren\, oefenen\, heilige rituelen doen en zingen\, voor de aarde\, de wereld\, voor ieder wezen. Voor veiligheid\, zelfhelend vermogen\, kracht\, licht en Liefde. In alle rust in de mooie\, serene\, op de natuur gerichte ruimte in Nes aan de Amstel. \nVoor iedereen die ergens stem aan wil geven\, het aandurft om te voelen\, te ervaren en te lachen samen. \nDe kosten zijn: €50\,-. \nNeem je eigen lunch mee\, maar je krijgt wel een heerlijke krachtgevende soep en lekkers. \nZelf meenemen: sokken\, eigen warme trui.\nEen eigen krachtvoorwerp. Een tak en/of een bloem.
URL:https://www.praktijkclarity.nl/event/workshop-helende-rituelen/
LOCATION:De Zon Rondom\, Ringdijk BP 16\, Amstelveen\, 1188 WC
ATTACH;FMTTYPE=image/jpeg:https://www.praktijkclarity.nl/wp-content/uploads/2019/02/Sjamanisme.jpg
ORGANIZER;CN="Praktijk Clarity":MAILTO:carladebrave@gmail.com
END:VEVENT
BEGIN:VEVENT
DTSTART;TZID=Europe/Amsterdam:20230503T094500
DTEND;TZID=Europe/Amsterdam:20230503T160000
DTSTAMP:20260416T033230
CREATED:20190417T112637Z
LAST-MODIFIED:20230414T065441Z
UID:1446-1683107100-1683129600@www.praktijkclarity.nl
SUMMARY:Workshop Klank en Healing
DESCRIPTION:Een dag van diepe ontspanning\, klank\, healing\, Sacred movement en symbolen. \nDe helende kracht van klank en kleur… om bij op te laden\, los te laten waar nodig\, zacht te zijn voor jezelf. De kracht vinden om in beweging te komen\, je lichaam te voelen\, te dansen en te zingen. \nDe ochtend bestaat uit een welkom\, geleide meditatie\, zachte bewegingen en wat oefeningen. Om te aarden\, te voelen en in je lichaam aanwezig te kunnen zijn. De stem gaat hierin mee. \nNa een pauze en lunch is er weer samenzijn in de kring waarin we o.a. werken met een visualisatie of geleide fantasie om helende kwaliteiten te bekrachtigen. Kleur\, sacred movement\, klank\, muziek\, healing. Kortom: een samenzijn in verbinding van klank\, kracht en kleur. \nIn de middag doen we een groepshealing om zacht\, zuiver en gelouterd naar huis te gaan. \n  \nWanneer: 3 mei 2023 \nWaar: De Zon Rondom in Nes a/d Amstel/Amstelveen; een prachtige\, rustige zaal met veel ruimte\, een keuken\, schoon\, met uitzicht op de weilanden met koeien\, hazen\, paarden\, buizerds….(de route volgt na aanmelding) \nDeelnemers: voor iedereen die van spiritualiteit houdt en zachtheid zoekt in zichzelf\, verbinding door middel van adem\, lijf en stem. Minimaal 8 personen\, maximaal 15. \nTijd: van 9.45 (welkom\, thee) tot ongeveer 16.00 uur. \nBijdrage: € 65\,- p.p. incl: koffie\,thee\,lekkers\, sapjes\, soep voor bij de eigen meegebrachte lunch en fruit \nBegeleiding: Carla de Brave- healer\, stembevrijder\, holistisch therapeut. \nAanmelding:  Telefonisch (06-226 08 327) of per mail (carladebrave@gmail.com). Vermeld bij aanmelding graag of er dieetwensen zijn (gluten\, lactose\, suikervrij).\nAarzel niet om mij te bellen voor vragen of wensen!
URL:https://www.praktijkclarity.nl/event/workshop-klank-en-healing/
LOCATION:De Zon Rondom\, Ringdijk BP 16\, Amstelveen\, 1188 WC
ATTACH;FMTTYPE=image/jpeg:https://www.praktijkclarity.nl/wp-content/uploads/2019/04/20190424_102541-scaled.jpg
ORGANIZER;CN="Praktijk Clarity":MAILTO:carladebrave@gmail.com
END:VEVENT
BEGIN:VEVENT
DTSTART;TZID=Europe/Amsterdam:20211105T083000
DTEND;TZID=Europe/Amsterdam:20211105T103000
DTSTAMP:20260416T033230
CREATED:20190219T095537Z
LAST-MODIFIED:20210930T140450Z
UID:1142-1636101000-1636108200@www.praktijkclarity.nl
SUMMARY:Mantrazang en meditatie
DESCRIPTION:Een Mantra is een heilige spreuk\, gebed of religieuze zin uit een tekst die gereciteerd of gezongen wordt om de geest vrij te maken van (storende) gedachten. Dit geeft helderheid en vrede. \nAfsluitend doen we een meditatie\, die voorafgegaan wordt door het spel op de Tanpura\, een bekend Indiaas muziekinstrument dat als ondertoon of als basis bij de meditatie wordt gebruikt. \nNa de meditatie is er tijd om samen te praten en iets te drinken voor wie dat wil. Weggaan in je eigen stilte mag ook. \nDe kosten voor een mantra-bijeenkomst zijn: € 15\,- (incl. thee\, koekjes\, teksten enz.\,). Graag gepast betalen aub. \nNeem vooral je vriend\, vriendin\, buurman/vrouw en familielid mee\, maar meld je wel altijd even aan.
URL:https://www.praktijkclarity.nl/event/mantrazang-en-meditatie/
LOCATION:Praktijk Clarity\, Multatulilaan 7\, Uithoorn\, 1422 BN
ATTACH;FMTTYPE=image/jpeg:https://www.praktijkclarity.nl/wp-content/uploads/2019/02/Mantrazang-en-meditatie.jpg
ORGANIZER;CN="Praktijk Clarity":MAILTO:carladebrave@gmail.com
END:VEVENT
BEGIN:VEVENT
DTSTART;TZID=Europe/Amsterdam:20200617T211500
DTEND;TZID=Europe/Amsterdam:20200617T233000
DTSTAMP:20260416T033230
CREATED:20200611T130902Z
LAST-MODIFIED:20200611T130902Z
UID:1582-1592428500-1592436600@www.praktijkclarity.nl
SUMMARY:Meditatie en Klank - buiten
DESCRIPTION:Woensdag 17 juni zijn we weer in het bos tot de schemering invalt.\nMediteren\, bewegen\, ademen\, luisteren\, verstillen en klank maken.\nOntspannend\, bijzonder\, door de energie in het bos\, veilig en verbindend.\nWelkom!\nWe verzamelen dit keer op de Multatulilaan7 in Uithoorn\, om 19.15uur.\nVandaar vertrekken we naar De plek in het Libelle Bos.\nNeem mee: gepaste betaling ajb (15\,= pp)\, iets warms\, drinken\, je eigen matje of plaid.\nGeef je even op per mail of telefonisch\, ivm de grootte van de plek waar we naar toe gaan. \nTot dan!
URL:https://www.praktijkclarity.nl/event/meditatie-en-klank-buiten/
LOCATION:Praktijk Clarity\, Multatulilaan 7\, Uithoorn\, 1422 BN
ATTACH;FMTTYPE=image/jpeg:https://www.praktijkclarity.nl/wp-content/uploads/2019/02/klankkleur-koor.jpg
ORGANIZER;CN="Praktijk Clarity":MAILTO:carladebrave@gmail.com
END:VEVENT
BEGIN:VEVENT
DTSTART;TZID=Europe/Amsterdam:20200415T213000
DTEND;TZID=Europe/Amsterdam:20200415T233000
DTSTAMP:20260416T033230
CREATED:20190417T112719Z
LAST-MODIFIED:20191130T133832Z
UID:1448-1586986200-1586993400@www.praktijkclarity.nl
SUMMARY:Het Klankkleurkoor
DESCRIPTION:Aan je adem en je stem werken\, stil (leren) zijn\, (leren) ontspannen door goed in je lijf te komen\, door middel van speelse oefening. Je verlegenheid of angst om klank te maken overwinnen en je ruimte innemen. Het geeft rust\, verbinding en vreugde. \nDe kosten per avond zijn: €15\,- incl. thee.
URL:https://www.praktijkclarity.nl/event/het-klankkleurkoor-5/
LOCATION:Praktijk Clarity\, Multatulilaan 7\, Uithoorn\, 1422 BN
ATTACH;FMTTYPE=image/jpeg:https://www.praktijkclarity.nl/wp-content/uploads/2019/02/klankkleur-koor.jpg
END:VEVENT
BEGIN:VEVENT
DTSTART;TZID=Europe/Amsterdam:20200321T150000
DTEND;TZID=Europe/Amsterdam:20200321T170000
DTSTAMP:20260416T033230
CREATED:20191010T131910Z
LAST-MODIFIED:20200218T152808Z
UID:1546-1584802800-1584810000@www.praktijkclarity.nl
SUMMARY:Demo Bio-resonantie
DESCRIPTION:In deze demo zal uitleg worden gegeven over de werking van bio-resonantie en het Asyra systeem dat wij in de praktijk gebruiken. Ook is het voor proefpersonen mogelijk om een aantal gratis metingen te krijgen. Aanmelding (telefonisch of per email) is noodzakelijk.
URL:https://www.praktijkclarity.nl/event/demo-bio-resonantie/
LOCATION:Praktijk Clarity\, Multatulilaan 7\, Uithoorn\, 1422 BN
ATTACH;FMTTYPE=image/jpeg:https://www.praktijkclarity.nl/wp-content/uploads/2019/04/bio-resonantie-met-Asyra.jpg
ORGANIZER;CN="Praktijk Clarity":MAILTO:carladebrave@gmail.com
END:VEVENT
BEGIN:VEVENT
DTSTART;TZID=Europe/Amsterdam:20200108T203000
DTEND;TZID=Europe/Amsterdam:20200108T223000
DTSTAMP:20260416T033230
CREATED:20190910T123813Z
LAST-MODIFIED:20190910T124105Z
UID:1539-1578515400-1578522600@www.praktijkclarity.nl
SUMMARY:Het Klankkleurkoor
DESCRIPTION:Aan je adem en je stem werken\, stil (leren) zijn\, (leren) ontspannen door goed in je lijf te komen\, door middel van speelse oefening. Je verlegenheid of angst om klank te maken overwinnen en je ruimte innemen. Het geeft rust\, verbinding en vreugde. \nDe kosten per avond zijn: €15\,- incl. thee.
URL:https://www.praktijkclarity.nl/event/het-klankkleurkoor-6/
LOCATION:Praktijk Clarity\, Multatulilaan 7\, Uithoorn\, 1422 BN
ATTACH;FMTTYPE=image/jpeg:https://www.praktijkclarity.nl/wp-content/uploads/2019/02/klankkleur-koor.jpg
END:VEVENT
BEGIN:VEVENT
DTSTART;TZID=Europe/Amsterdam:20191218T203000
DTEND;TZID=Europe/Amsterdam:20191218T223000
DTSTAMP:20260416T033230
CREATED:20190219T080425Z
LAST-MODIFIED:20190909T205422Z
UID:1125-1576701000-1576708200@www.praktijkclarity.nl
SUMMARY:Het Klankkleurkoor
DESCRIPTION:Aan je adem en je stem werken\, stil (leren) zijn\, (leren) ontspannen door goed in je lijf te komen\, door middel van speelse oefening. Je verlegenheid of angst om klank te maken overwinnen en je ruimte innemen. Het geeft rust\, verbinding en vreugde. \nDe kosten per avond zijn: €15\,- incl. thee.
URL:https://www.praktijkclarity.nl/event/het-klankkleurkoor/
LOCATION:Praktijk Clarity\, Multatulilaan 7\, Uithoorn\, 1422 BN
ATTACH;FMTTYPE=image/jpeg:https://www.praktijkclarity.nl/wp-content/uploads/2019/02/klankkleur-koor.jpg
END:VEVENT
BEGIN:VEVENT
DTSTART;TZID=Europe/Amsterdam:20191020T160000
DTEND;TZID=Europe/Amsterdam:20191020T190000
DTSTAMP:20260416T033230
CREATED:20190409T064330Z
LAST-MODIFIED:20190919T112740Z
UID:1411-1571587200-1571598000@www.praktijkclarity.nl
SUMMARY:Sjamanen-drum
DESCRIPTION:Wil je meedoen in de drumcirkel\, met je eigen Sjamanen-drum? De eerstvolgende datum is op 20 oktober\, in Nes aan de Amstel\, buiten. \nJe bent er welkom!
URL:https://www.praktijkclarity.nl/event/sjamanen-drum/
LOCATION:De Zon Rondom\, Ringdijk BP 16\, Amstelveen\, 1188 WC
ATTACH;FMTTYPE=image/jpeg:https://www.praktijkclarity.nl/wp-content/uploads/2019/04/sjamaanse-drum.jpg
ORGANIZER;CN="Praktijk Clarity":MAILTO:carladebrave@gmail.com
END:VEVENT
BEGIN:VEVENT
DTSTART;TZID=Europe/Amsterdam:20190815T120000
DTEND;TZID=Europe/Amsterdam:20190815T140000
DTSTAMP:20260416T033230
CREATED:20190416T080844Z
LAST-MODIFIED:20190714T133020Z
UID:1439-1565870400-1565877600@www.praktijkclarity.nl
SUMMARY:De Rite van de Baarmoeder
DESCRIPTION:De 13e Rite van de Munay-Ki: De Rite van de Baarmoeder. \nAlles wat jouw moeder is overkomen\,\nis jou overkomen\,\nterwijl ze zwanger was van jou. \nDe 13e Rite is een geschenk aan jezelf. Door de energie van de inwijding\, die zowel een heling als ook en zegening is\, wordt de vrouwelijke kracht gereactiveerd. \nDe collectieve energie is eeuwenlang ontkent\, onderdrukt en misbruikt. Vaak dragen we ook een stuk (bewust en/of onbewust) pijn en verdriet van onze moeders en grootmoeders of zelfs verwondingen uit andere levens met ons mee. Of hebben we een kwetsuur opgelopen in dit leven waardoor de vrouwelijke kracht voor een groot deel verloren ging. \nNu is echter het moment aangebroken dat elke vrouw zich weer mag herinneren wie ze werkelijk is. Boordevol power maar ook zacht\, liefdevol en wijs. \nDe Rite van de Baarmoeder is zeer krachtig en brengt\, in alle zachtheid\, jouw moederschoot van creatie in een natuurlijke balans waardoor je gevoel van zelfvertrouwen en eigenwaarde weer zal stromen. Een heling\, een zegening… een wedergeboorte van de sterke\, liefdevolle essentie van jouw vrouw zijn. Het ritueel heelt je en laat je herboren worden in schoonheid\, kracht en waardigheid. \nEr bestaat een lijn van vrouwen die zichzelf hebben bevrijd van lijden. Deze vrouwenlijn wil ons aan het volgende herinneren: \n\n“De baarmoeder is geen plek om angst en pijn in te bewaren. De baarmoeder is een plek van creatie en geboorte van leven”. \n\nDeze vrouwenlijn heeft ons via de wijsheid van de jungle het geschenk gegeven van de 13th Rite van de Munay-Ki: de Rite van de Baarmoeder. Deze rite van de Munay-Ki staat los van de andere 9 Munay-Ki initiaties en kan dus geheel los daarvan ontvangen worden. \nDe betaling kun je  van tevoren doen\, omdat je dan zeker weet dat je plaats is gereserveerd (i.v.m. de ruimte).\nDe kosten voor de Rite zijn : €45\,-\nDe Rite wordt altijd gehouden met Volle Maan in de ochtend of middag.
URL:https://www.praktijkclarity.nl/event/de-rite-van-de-baarmoeder/
LOCATION:Praktijk Clarity\, Multatulilaan 7\, Uithoorn\, 1422 BN
ATTACH;FMTTYPE=image/jpeg:https://www.praktijkclarity.nl/wp-content/uploads/2019/02/De-Rite-van-de-Baarmoeder.jpg
END:VEVENT
END:VCALENDAR